BEGIN:VCALENDAR
PRODID:-//AT Content Types//AT Event//EN
VERSION:1.0
BEGIN:VEVENT
DTSTART:20191122T163000Z
DTEND:20191122T183000Z
DCREATED:20191116T084907Z
UID:ATEvent-eab1dcafd05249518089bdc476cb1950
SEQUENCE:0
LAST-MODIFIED:20191116T084915Z
SUMMARY:Leemos en igualdad
PRIORITY:3
TRANSP:0
END:VEVENT
END:VCALENDAR
