BEGIN:VCALENDAR
PRODID:-//AT Content Types//AT Event//EN
VERSION:2.0
METHOD:PUBLISH
BEGIN:VEVENT
DTSTAMP:20260421T113508Z
CREATED:20171103T090439Z
UID:ATEvent-184e7cb1ccf949f3959fa8a298de72a6
LAST-MODIFIED:20171103T090513Z
SUMMARY:Desde este viernes con “Miedo” contra la violencia machista
DTSTART:20171103T183000Z
DTEND:20171103T193000Z
DESCRIPTION:La artista Mariayolé nos trae la exposición “Miedo”\
 , una muestra de dibujos que nos acerca a la realidad de las víctimas
  de violencia machista.
CATEGORIES:Mujer
CLASS:PUBLIC
END:VEVENT
END:VCALENDAR
