BEGIN:VCALENDAR
PRODID:-//AT Content Types//AT Event//EN
VERSION:1.0
BEGIN:VEVENT
DTSTART:20191129T170000Z
DTEND:20191129T215500Z
DCREATED:20191031T151932Z
UID:ATEvent-194e8334bd3b4603ba4229fda251f756
SEQUENCE:0
LAST-MODIFIED:20191228T192725Z
SUMMARY:Día Internacional de los derechos de los niños y niñas
PRIORITY:3
TRANSP:0
END:VEVENT
END:VCALENDAR
