BEGIN:VCALENDAR
PRODID:-//AT Content Types//AT Event//EN
VERSION:2.0
METHOD:PUBLISH
BEGIN:VEVENT
DTSTAMP:20260421T095406Z
CREATED:20180119T173324Z
UID:ATEvent-fb19964e2ed345dd94f9e98303b5a89f
LAST-MODIFIED:20180119T173336Z
SUMMARY:Baloncesto benéfico este domingo en Arroyomolinos
DTSTART:20180121T090000Z
DTEND:20180121T130000Z
DESCRIPTION:El polideportivo “El Torreón” será testigo del I Tor
 neo Benéfico de Baloncesto en categoría veteranas femenino. Organiza
 do por la Asociación Cultural de Mujeres de Arroyomolinos Segundo Tie
 mpo a beneficio de la Asociación GA-1.
CATEGORIES:Deportes
CLASS:PUBLIC
END:VEVENT
END:VCALENDAR
