BEGIN:VCALENDAR
PRODID:-//AT Content Types//AT Event//EN
VERSION:2.0
METHOD:PUBLISH
BEGIN:VEVENT
DTSTAMP:20260419T173204Z
CREATED:20190930T145852Z
UID:ATEvent-db40fb075017477ab95f7db4ccdd83c6
LAST-MODIFIED:20190930T145900Z
SUMMARY:Un marido ideal
DTSTART:20191020T170000Z
DTEND:20191020T205500Z
CATEGORIES:Teatro
CLASS:PUBLIC
END:VEVENT
END:VCALENDAR
