BEGIN:VCALENDAR
PRODID:-//AT Content Types//AT Event//EN
VERSION:1.0
BEGIN:VEVENT
DTSTART:20241027T180000Z
DTEND:20241027T222500Z
DCREATED:20240924T052518Z
UID:ATEvent-f7f62918dfd94126be1a09617a942176
SEQUENCE:0
LAST-MODIFIED:20240924T052524Z
SUMMARY:La colección
PRIORITY:3
TRANSP:0
END:VEVENT
END:VCALENDAR
