BEGIN:VCALENDAR
PRODID:-//AT Content Types//AT Event//EN
VERSION:1.0
BEGIN:VEVENT
DTSTART:20220611T150000Z
DTEND:20220611T201000Z
DCREATED:20220531T061019Z
UID:ATEvent-ffe9bdf00d75490fa7698b087ec13245
SEQUENCE:0
LAST-MODIFIED:20220531T061534Z
SUMMARY:El traje nuevo de la emperatriz
PRIORITY:3
TRANSP:0
END:VEVENT
END:VCALENDAR
