BEGIN:VCALENDAR
PRODID:-//AT Content Types//AT Event//EN
VERSION:1.0
BEGIN:VEVENT
DTSTART:20250301T170000Z
DTEND:20250305T221500Z
DCREATED:20250224T101613Z
UID:ATEvent-e442a31d699e4e34a684d91572c20e7b
SEQUENCE:0
LAST-MODIFIED:20250224T101623Z
SUMMARY:Carnaval - Arroyomolinos
PRIORITY:3
TRANSP:0
END:VEVENT
END:VCALENDAR
