BEGIN:VCALENDAR
PRODID:-//AT Content Types//AT Event//EN
VERSION:2.0
METHOD:PUBLISH
BEGIN:VEVENT
DTSTAMP:20260424T152110Z
CREATED:20191228T190508Z
UID:ATEvent-a8ff60d943d144a5972cdc6a7ed6606d
LAST-MODIFIED:20191228T190514Z
SUMMARY:Aloló
DTSTART:20200125T180000Z
DTEND:20200125T210000Z
CATEGORIES:Teatro
CLASS:PUBLIC
END:VEVENT
END:VCALENDAR
