BEGIN:VCALENDAR
PRODID:-//AT Content Types//AT Event//EN
VERSION:1.0
BEGIN:VEVENT
DTSTART:20220605T163000Z
DTEND:20220605T210500Z
DCREATED:20220531T060729Z
UID:ATEvent-6629e9cdba08447cbadb9ba08e865a5c
SEQUENCE:0
LAST-MODIFIED:20220531T061123Z
SUMMARY:Acampada en Madagascar
PRIORITY:3
TRANSP:0
END:VEVENT
END:VCALENDAR
