BEGIN:VCALENDAR
PRODID:-//AT Content Types//AT Event//EN
VERSION:2.0
METHOD:PUBLISH
BEGIN:VEVENT
DTSTAMP:20260421T082400Z
CREATED:20240429T103727Z
UID:ATEvent-785322ca23b342b589a0cb5c3caf38cb
LAST-MODIFIED:20240429T103741Z
SUMMARY:Zarzuela - El cesto de los juguetes
DTSTART:20240524T090000Z
DTEND:20240524T213500Z
CATEGORIES:Música
CLASS:PUBLIC
END:VEVENT
END:VCALENDAR
