BEGIN:VCALENDAR
PRODID:-//AT Content Types//AT Event//EN
VERSION:2.0
METHOD:PUBLISH
BEGIN:VEVENT
DTSTAMP:20260422T100401Z
CREATED:20241029T070303Z
UID:ATEvent-20060d8fbd834eca9c87c7fda0f444a3
LAST-MODIFIED:20241029T070308Z
SUMMARY:Viaje a OZ - El Musical
DTSTART:20241130T180000Z
DTEND:20241130T220000Z
CATEGORIES:Música
CLASS:PUBLIC
END:VEVENT
END:VCALENDAR
