BEGIN:VCALENDAR
PRODID:-//AT Content Types//AT Event//EN
VERSION:1.0
BEGIN:VEVENT
DTSTART:20220529T170000Z
DTEND:20220529T211500Z
DCREATED:20220512T061736Z
UID:ATEvent-579de804801c408c894e8b0e88014d27
SEQUENCE:0
LAST-MODIFIED:20220512T061745Z
SUMMARY:TERCIOS\, el frente hispánico
PRIORITY:3
TRANSP:0
END:VEVENT
END:VCALENDAR
