BEGIN:VCALENDAR
PRODID:-//AT Content Types//AT Event//EN
VERSION:1.0
BEGIN:VEVENT
DTSTART:20181223T120000Z
DTEND:20181223T133000Z
DCREATED:20181219T110940Z
UID:ATEvent-b8d418be8088454fb9561ada15f8a285
SEQUENCE:0
LAST-MODIFIED:20181219T120050Z
SUMMARY:Los villancicos llenan la Navidad en Arroyomolinos
DESCRIPTION:La banda sonora de la Navidad son los villancicos. El 23 d
 e diciembre la Coral de Arroyomolinos realizará el Recital de Villanc
 icos en el Auditorio Municipal.
PRIORITY:3
TRANSP:0
END:VEVENT
END:VCALENDAR
