BEGIN:VCALENDAR
PRODID:-//AT Content Types//AT Event//EN
VERSION:2.0
METHOD:PUBLISH
BEGIN:VEVENT
DTSTAMP:20260421T222115Z
CREATED:20190614T130022Z
UID:ATEvent-96385a0855e24bce9a90eb7cb094c9cf
LAST-MODIFIED:20190614T130034Z
SUMMARY:El domingo 23 de junio ven a vivir un “Fantasy World” en Arroyomolinos
DTSTART:20190623T180000Z
DTEND:20190623T200000Z
DESCRIPTION:Cita para el público infantil a las 20:00 horas en el Rec
 into Ferial con motivo de las Fiestas del Corpus.
CATEGORIES:Festejos
CLASS:PUBLIC
END:VEVENT
END:VCALENDAR
