BEGIN:VCALENDAR
PRODID:-//AT Content Types//AT Event//EN
VERSION:2.0
METHOD:PUBLISH
BEGIN:VEVENT
DTSTAMP:20260423T200439Z
CREATED:20231031T062159Z
UID:ATEvent-dc2bd324e9e44394bc9072f479296340
LAST-MODIFIED:20231031T062207Z
SUMMARY:Concierto sinfónico
DTSTART:20231119T180000Z
DTEND:20231119T221500Z
CATEGORIES:Música
CLASS:PUBLIC
END:VEVENT
END:VCALENDAR
