BEGIN:VCALENDAR
PRODID:-//AT Content Types//AT Event//EN
VERSION:2.0
METHOD:PUBLISH
BEGIN:VEVENT
DTSTAMP:20260422T101407Z
CREATED:20180326T074125Z
UID:ATEvent-ead21edfa19d4c94a1a75121b8baeb6f
LAST-MODIFIED:20180326T074140Z
SUMMARY:Arroyomolinos punto de encuentro de jóvenes talentos musicales
DTSTART:20180408T170000Z
DTEND:20180408T190000Z
DESCRIPTION:Gracias al trabajo en común entre la Concejalía de Cultu
 ra de Arroyomolinos y el Centro Superior de Enseñanza Musical “Prog
 reso Musical”\, el Ciclo de Jóvenes Talentos de la Música vive una
  nueva cita en nuestra localidad.
CATEGORIES:Auditorium Arroyomolinos
CLASS:PUBLIC
END:VEVENT
END:VCALENDAR
