BEGIN:VCALENDAR
PRODID:-//AT Content Types//AT Event//EN
VERSION:1.0
BEGIN:VEVENT
DTSTART:20230812T203000Z
DTEND:20230812T215500Z
DCREATED:20230627T100400Z
UID:ATEvent-86ba547d2e004763a7b586446fa6d714
SEQUENCE:0
LAST-MODIFIED:20230627T100412Z
SUMMARY:Unmask the truth
PRIORITY:3
TRANSP:0
END:VEVENT
END:VCALENDAR
