BEGIN:VCALENDAR
PRODID:-//AT Content Types//AT Event//EN
VERSION:1.0
BEGIN:VEVENT
DTSTART:20230302T190000Z
DTEND:20230302T220500Z
DCREATED:20230221T121029Z
UID:ATEvent-12f9a213e16449adbb5adaad45583645
SEQUENCE:0
LAST-MODIFIED:20230221T121040Z
SUMMARY:Presentación de la novela: doce abuelas - Pablo del Río
PRIORITY:3
TRANSP:0
END:VEVENT
END:VCALENDAR
